BEGIN:VCALENDAR
VERSION:2.0
PRODID:-//Laura E. Garrard - ECPv6.15.20//NONSGML v1.0//EN
CALSCALE:GREGORIAN
METHOD:PUBLISH
X-ORIGINAL-URL:https://lauraegarrard.com
X-WR-CALDESC:Events for Laura E. Garrard
REFRESH-INTERVAL;VALUE=DURATION:PT1H
X-Robots-Tag:noindex
X-PUBLISHED-TTL:PT1H
BEGIN:VTIMEZONE
TZID:America/Los_Angeles
BEGIN:DAYLIGHT
TZOFFSETFROM:-0800
TZOFFSETTO:-0700
TZNAME:PDT
DTSTART:20250309T100000
END:DAYLIGHT
BEGIN:STANDARD
TZOFFSETFROM:-0700
TZOFFSETTO:-0800
TZNAME:PST
DTSTART:20251102T090000
END:STANDARD
BEGIN:DAYLIGHT
TZOFFSETFROM:-0800
TZOFFSETTO:-0700
TZNAME:PDT
DTSTART:20260308T100000
END:DAYLIGHT
BEGIN:STANDARD
TZOFFSETFROM:-0700
TZOFFSETTO:-0800
TZNAME:PST
DTSTART:20261101T090000
END:STANDARD
BEGIN:DAYLIGHT
TZOFFSETFROM:-0800
TZOFFSETTO:-0700
TZNAME:PDT
DTSTART:20270314T100000
END:DAYLIGHT
BEGIN:STANDARD
TZOFFSETFROM:-0700
TZOFFSETTO:-0800
TZNAME:PST
DTSTART:20271107T090000
END:STANDARD
END:VTIMEZONE
BEGIN:VEVENT
DTSTART;TZID=America/Los_Angeles:20260526T180000
DTEND;TZID=America/Los_Angeles:20260526T200000
DTSTAMP:20260423T123652
CREATED:20251202T184555Z
LAST-MODIFIED:20260422T221817Z
UID:900-1779818400-1779825600@lauraegarrard.com
SUMMARY:CoastLines Featured Speaker
DESCRIPTION:Come to the Gentle House at 1215 W. 11th St.\, Port Angeles\, WA 98362\, for a wonderful evening of poetry readings by Laura E. Garrard and Linda B. Myers and from their new chapbooks with Finishing Line Press: Paddling the Sweet Spot Between Life and Death and Load-Bearing Walls\, respectively. \nThey will provide a craft talk about “Writing About the Highly Personal\,” share works by well-known poets\, and lead you in a prompt about the topic most poignant in your life. \nThere will be an Open Mic of 3-minute readings or less.
URL:https://lauraegarrard.com/event/coastlines-featured-speaker/
LOCATION:Gentle House\, 1215 W. 11th St.\, Port Angeles\, WA\, 98362\, United States
CATEGORIES:Featured Author Event
ORGANIZER;CN="S. Salazar and Kirsten Miles":MAILTO:gentlehousetupelopress@gmail.com
END:VEVENT
END:VCALENDAR