BEGIN:VCALENDAR
VERSION:2.0
PRODID:-//Laura E. Garrard - ECPv6.15.20//NONSGML v1.0//EN
CALSCALE:GREGORIAN
METHOD:PUBLISH
X-ORIGINAL-URL:https://lauraegarrard.com
X-WR-CALDESC:Events for Laura E. Garrard
REFRESH-INTERVAL;VALUE=DURATION:PT1H
X-Robots-Tag:noindex
X-PUBLISHED-TTL:PT1H
BEGIN:VTIMEZONE
TZID:America/Los_Angeles
BEGIN:DAYLIGHT
TZOFFSETFROM:-0800
TZOFFSETTO:-0700
TZNAME:PDT
DTSTART:20250309T100000
END:DAYLIGHT
BEGIN:STANDARD
TZOFFSETFROM:-0700
TZOFFSETTO:-0800
TZNAME:PST
DTSTART:20251102T090000
END:STANDARD
BEGIN:DAYLIGHT
TZOFFSETFROM:-0800
TZOFFSETTO:-0700
TZNAME:PDT
DTSTART:20260308T100000
END:DAYLIGHT
BEGIN:STANDARD
TZOFFSETFROM:-0700
TZOFFSETTO:-0800
TZNAME:PST
DTSTART:20261101T090000
END:STANDARD
BEGIN:DAYLIGHT
TZOFFSETFROM:-0800
TZOFFSETTO:-0700
TZNAME:PDT
DTSTART:20270314T100000
END:DAYLIGHT
BEGIN:STANDARD
TZOFFSETFROM:-0700
TZOFFSETTO:-0800
TZNAME:PST
DTSTART:20271107T090000
END:STANDARD
END:VTIMEZONE
BEGIN:VEVENT
DTSTART;TZID=America/Los_Angeles:20260513T180000
DTEND;TZID=America/Los_Angeles:20260513T200000
DTSTAMP:20260423T072038
CREATED:20260422T210539Z
LAST-MODIFIED:20260422T210812Z
UID:1497-1778695200-1778702400@lauraegarrard.com
SUMMARY:C and P Coffee PoetryBridge Reading
DESCRIPTION:I have the honor of reading as a featured poet with T. Clear and Mary Crane\, followed by a community Open Mic after a short break at 7 p.m. \nPoetryBridgeTimes.Net: Our mission is to promote the best of poetry and storytelling in West Seattle. Not best as in better than\, but best as in authentic self-expression\, in person\, here and now. Best* that in the telling demonstrates diverse forms of bravery\, expressiveness\, sincerity and truthfulness. \n \n 
URL:https://lauraegarrard.com/event/c-and-p-coffee-poetrybridge-reading/
LOCATION:C and P Coffee\, 5612 California Ave SW\, Seattle\, WA\, 98136
CATEGORIES:Featured Author Event,Open Mic Opportunity,Poetry Reading
ORGANIZER;CN="Leopoldo Seguel":MAILTO:infopoetrybridge@gmail.com
END:VEVENT
END:VCALENDAR