BEGIN:VCALENDAR
VERSION:2.0
PRODID:-//Laura E. Garrard - ECPv6.15.20//NONSGML v1.0//EN
CALSCALE:GREGORIAN
METHOD:PUBLISH
X-WR-CALNAME:Laura E. Garrard
X-ORIGINAL-URL:https://lauraegarrard.com
X-WR-CALDESC:Events for Laura E. Garrard
REFRESH-INTERVAL;VALUE=DURATION:PT1H
X-Robots-Tag:noindex
X-PUBLISHED-TTL:PT1H
BEGIN:VTIMEZONE
TZID:America/Los_Angeles
BEGIN:DAYLIGHT
TZOFFSETFROM:-0800
TZOFFSETTO:-0700
TZNAME:PDT
DTSTART:20250309T100000
END:DAYLIGHT
BEGIN:STANDARD
TZOFFSETFROM:-0700
TZOFFSETTO:-0800
TZNAME:PST
DTSTART:20251102T090000
END:STANDARD
BEGIN:DAYLIGHT
TZOFFSETFROM:-0800
TZOFFSETTO:-0700
TZNAME:PDT
DTSTART:20260308T100000
END:DAYLIGHT
BEGIN:STANDARD
TZOFFSETFROM:-0700
TZOFFSETTO:-0800
TZNAME:PST
DTSTART:20261101T090000
END:STANDARD
BEGIN:DAYLIGHT
TZOFFSETFROM:-0800
TZOFFSETTO:-0700
TZNAME:PDT
DTSTART:20270314T100000
END:DAYLIGHT
BEGIN:STANDARD
TZOFFSETFROM:-0700
TZOFFSETTO:-0800
TZNAME:PST
DTSTART:20271107T090000
END:STANDARD
END:VTIMEZONE
BEGIN:VEVENT
DTSTART;TZID=America/Los_Angeles:20260507T173000
DTEND;TZID=America/Los_Angeles:20260507T190000
DTSTAMP:20260423T095021
CREATED:20251104T224153Z
LAST-MODIFIED:20260422T211246Z
UID:693-1778175000-1778180400@lauraegarrard.com
SUMMARY:Imprint Bookshop Reading
DESCRIPTION:Imprint Bookshop in Port Townsend will host Laura E. Garrard\, Linda B. Myers\, and Carolyne Wright! They will each read from their books: Paddling the Sweet Spot Between Life and Death (Finishing Line Press)\, Load-Bearing Walls (Finishing Line Press)\, and Masquerade: A Memoir in Poetry (Lost Horse Books). Check back here for updated details!  \n\n\n\n\n\n\n\n\n\n 
URL:https://lauraegarrard.com/event/imprint-bookshop-reading/
LOCATION:Imprint Bookshop\, Port Townsend\, 820 Water St.\, Port Townsend\, WA\, 98368\, United States
CATEGORIES:Book Signing,Featured Author Event,Poetry Reading
ORGANIZER;CN="John Blomgren":MAILTO:john@imprintbookshop.com
END:VEVENT
END:VCALENDAR