BEGIN:VCALENDAR
VERSION:2.0
PRODID:-//Laura E. Garrard - ECPv6.15.20//NONSGML v1.0//EN
CALSCALE:GREGORIAN
METHOD:PUBLISH
X-ORIGINAL-URL:https://lauraegarrard.com
X-WR-CALDESC:Events for Laura E. Garrard
REFRESH-INTERVAL;VALUE=DURATION:PT1H
X-Robots-Tag:noindex
X-PUBLISHED-TTL:PT1H
BEGIN:VTIMEZONE
TZID:America/Los_Angeles
BEGIN:DAYLIGHT
TZOFFSETFROM:-0800
TZOFFSETTO:-0700
TZNAME:PDT
DTSTART:20250309T100000
END:DAYLIGHT
BEGIN:STANDARD
TZOFFSETFROM:-0700
TZOFFSETTO:-0800
TZNAME:PST
DTSTART:20251102T090000
END:STANDARD
BEGIN:DAYLIGHT
TZOFFSETFROM:-0800
TZOFFSETTO:-0700
TZNAME:PDT
DTSTART:20260308T100000
END:DAYLIGHT
BEGIN:STANDARD
TZOFFSETFROM:-0700
TZOFFSETTO:-0800
TZNAME:PST
DTSTART:20261101T090000
END:STANDARD
BEGIN:DAYLIGHT
TZOFFSETFROM:-0800
TZOFFSETTO:-0700
TZNAME:PDT
DTSTART:20270314T100000
END:DAYLIGHT
BEGIN:STANDARD
TZOFFSETFROM:-0700
TZOFFSETTO:-0800
TZNAME:PST
DTSTART:20271107T090000
END:STANDARD
END:VTIMEZONE
BEGIN:VEVENT
DTSTART;TZID=America/Los_Angeles:20260713T183000
DTEND;TZID=America/Los_Angeles:20260713T213000
DTSTAMP:20260423T140220
CREATED:20260330T214727Z
LAST-MODIFIED:20260422T211008Z
UID:1354-1783967400-1783978200@lauraegarrard.com
SUMMARY:Creative Colloquy Literary & Open Mic\, Featured Reader in July
DESCRIPTION:The New Frontier Lounge in Tacoma\, Washington.\nLaura E. Garrard will be a featured reader on this night to celebrate her chapbook release! \nBring your short stories\, poems\, and essays to share during the open mic portion. Please note\, open mic allows performers 5 minutes. This time limit is firm to allow all readers an opportunity to share. \nCC is fiscally sponsored by Shunpike. \nThis program is supported in part by Tacoma Creates\, a program of the City of Tacoma. \n 
URL:https://lauraegarrard.com/event/creative-colloquy-literary-open-mic-featured-reader-in-july/
LOCATION:The New Frontier Lounge\, 301 E 25th St.\, Tacoma\, WA\, 98421\, United States
CATEGORIES:Book Launch,Featured Author Event,Open Mic Opportunity,Poetry Reading
ATTACH;FMTTYPE=image/png:https://lauraegarrard.com/wp-content/uploads/2026/03/Creative-Colloquy-Logo-1.png
ORGANIZER;CN="Creative Colloquy":MAILTO:jackie.d.fender@gmail.com
END:VEVENT
END:VCALENDAR