BEGIN:VCALENDAR
VERSION:2.0
PRODID:-//Laura E. Garrard - ECPv6.15.20//NONSGML v1.0//EN
CALSCALE:GREGORIAN
METHOD:PUBLISH
X-ORIGINAL-URL:https://lauraegarrard.com
X-WR-CALDESC:Events for Laura E. Garrard
REFRESH-INTERVAL;VALUE=DURATION:PT1H
X-Robots-Tag:noindex
X-PUBLISHED-TTL:PT1H
BEGIN:VTIMEZONE
TZID:America/Los_Angeles
BEGIN:DAYLIGHT
TZOFFSETFROM:-0800
TZOFFSETTO:-0700
TZNAME:PDT
DTSTART:20250309T100000
END:DAYLIGHT
BEGIN:STANDARD
TZOFFSETFROM:-0700
TZOFFSETTO:-0800
TZNAME:PST
DTSTART:20251102T090000
END:STANDARD
BEGIN:DAYLIGHT
TZOFFSETFROM:-0800
TZOFFSETTO:-0700
TZNAME:PDT
DTSTART:20260308T100000
END:DAYLIGHT
BEGIN:STANDARD
TZOFFSETFROM:-0700
TZOFFSETTO:-0800
TZNAME:PST
DTSTART:20261101T090000
END:STANDARD
BEGIN:DAYLIGHT
TZOFFSETFROM:-0800
TZOFFSETTO:-0700
TZNAME:PDT
DTSTART:20270314T100000
END:DAYLIGHT
BEGIN:STANDARD
TZOFFSETFROM:-0700
TZOFFSETTO:-0800
TZNAME:PST
DTSTART:20271107T090000
END:STANDARD
END:VTIMEZONE
BEGIN:VEVENT
DTSTART;TZID=America/Los_Angeles:20260119T183000
DTEND;TZID=America/Los_Angeles:20260119T213000
DTSTAMP:20260423T083719
CREATED:20251123T005651Z
LAST-MODIFIED:20251202T192252Z
UID:809-1768847400-1768858200@lauraegarrard.com
SUMMARY:Creative Colloquy Literary & Open Mic\, Featured Reader
DESCRIPTION:I will be a featured reader on this night. \nBring your short stories\, poems\, and essays to share during the open mic portion. Please note\, open mic allows performers 5 minutes. This time limit is firm to allow all readers an opportunity to share. \nCC is fiscally sponsored by Shunpike. \nThis program is supported in part by Tacoma Creates\, a program of the City of Tacoma.
URL:https://lauraegarrard.com/event/creative-colloquy-literary-open-mic/
LOCATION:The New Frontier Lounge\, 301 E 25th St.\, Tacoma\, WA\, 98421\, United States
CATEGORIES:Featured Author Event,Open Mic Opportunity
ORGANIZER;CN="Creative Colloquy":MAILTO:jackie.d.fender@gmail.com
END:VEVENT
END:VCALENDAR